BEGIN:VCALENDAR
VERSION:2.0
PRODID:-//Dennis Conservation Land Trust - ECPv6.15.20//NONSGML v1.0//EN
CALSCALE:GREGORIAN
METHOD:PUBLISH
X-ORIGINAL-URL:https://dennisconservationlandtrust.org
X-WR-CALDESC:Events for Dennis Conservation Land Trust
REFRESH-INTERVAL;VALUE=DURATION:PT1H
X-Robots-Tag:noindex
X-PUBLISHED-TTL:PT1H
BEGIN:VTIMEZONE
TZID:America/New_York
BEGIN:DAYLIGHT
TZOFFSETFROM:-0500
TZOFFSETTO:-0400
TZNAME:EDT
DTSTART:20250309T070000
END:DAYLIGHT
BEGIN:STANDARD
TZOFFSETFROM:-0400
TZOFFSETTO:-0500
TZNAME:EST
DTSTART:20251102T060000
END:STANDARD
BEGIN:DAYLIGHT
TZOFFSETFROM:-0500
TZOFFSETTO:-0400
TZNAME:EDT
DTSTART:20260308T070000
END:DAYLIGHT
BEGIN:STANDARD
TZOFFSETFROM:-0400
TZOFFSETTO:-0500
TZNAME:EST
DTSTART:20261101T060000
END:STANDARD
BEGIN:DAYLIGHT
TZOFFSETFROM:-0500
TZOFFSETTO:-0400
TZNAME:EDT
DTSTART:20270314T070000
END:DAYLIGHT
BEGIN:STANDARD
TZOFFSETFROM:-0400
TZOFFSETTO:-0500
TZNAME:EST
DTSTART:20271107T060000
END:STANDARD
END:VTIMEZONE
BEGIN:VEVENT
DTSTART;TZID=America/New_York:20260423T150000
DTEND;TZID=America/New_York:20260423T170000
DTSTAMP:20260423T065955
CREATED:20260402T165557Z
LAST-MODIFIED:20260421T192637Z
UID:10000513-1776956400-1776963600@dennisconservationlandtrust.org
SUMMARY:Home Grown Tour: From Seed to Starter at Matt's Organic Gardens
DESCRIPTION:2 tickets left! \nThe Dennis Conservation Land Trust’s Home Grown Farm Tour series invites curious locals and seasonal visitors the opportunity to step behind farm doors to meet the people who grow food\, fiber\, and seafood from the land and sea\, and to witness the intimate rhythms of a working farm.  \nFrom oyster farms to regenerative farm fields yielding fresh produce and flowers\, the series doesn’t just showcase Dennis farms\, it reveals the hands\, hearts\, and stories behind it. Think of it as a guided stroll through the town’s living pantry\, where every turn offers a taste of connection\, history\, and a renewed appreciation for where our food comes from. \n \n*CORRECTED DATE* Join us April 23rd\, 3pm-5pm at Matt’s Organic Gardens in Dennis Port!  \nMatt’s Organic Gardens is a certified organic farm and garden center located at 36 Upper County Rd in Dennis Port. They specialize in growing heirloom and organic vegetable starts\, herbs\, and flowers from seed and plug\, carrying them through to on-site retail sales. Their approach is rooted in soil health\, seed independence\, and sustainable growing practices and believe healthy soil grows resilient plants without the need for synthetic chemicals. \nFounded with a deep respect for traditional farming methods\, Matt’s Organic is committed to soil and water health and educating the community about where their food comes from and why it matters. \nRegister here.\nMembers Free\, Non-Members $20\nMembership starts at $50 so consider becoming a member! \nNext up:\nHome Grown Tour: From Spawn to Table at A.R.C. Shellfish Hatchery\, May 1 @ 5:00 pm-6:30 pm
URL:https://dennisconservationlandtrust.org/event/home-grown-tour-from-seed-to-starter-at-matts-organic-gardens/
LOCATION:Matt’s Organic Gardens\, 36 Upper County Road\, Dennis Port\, MA\, 02639\, United States
CATEGORIES:Walks & Talks
ATTACH;FMTTYPE=image/png:https://dennisconservationlandtrust.org/wp-content/uploads/2026/04/matts-organic-gardens-logo.png
END:VEVENT
END:VCALENDAR