BEGIN:VCALENDAR
VERSION:2.0
PRODID:-//Dennis Conservation Land Trust - ECPv6.15.20//NONSGML v1.0//EN
CALSCALE:GREGORIAN
METHOD:PUBLISH
X-WR-CALNAME:Dennis Conservation Land Trust
X-ORIGINAL-URL:https://dennisconservationlandtrust.org
X-WR-CALDESC:Events for Dennis Conservation Land Trust
REFRESH-INTERVAL;VALUE=DURATION:PT1H
X-Robots-Tag:noindex
X-PUBLISHED-TTL:PT1H
BEGIN:VTIMEZONE
TZID:America/New_York
BEGIN:DAYLIGHT
TZOFFSETFROM:-0500
TZOFFSETTO:-0400
TZNAME:EDT
DTSTART:20250309T070000
END:DAYLIGHT
BEGIN:STANDARD
TZOFFSETFROM:-0400
TZOFFSETTO:-0500
TZNAME:EST
DTSTART:20251102T060000
END:STANDARD
BEGIN:DAYLIGHT
TZOFFSETFROM:-0500
TZOFFSETTO:-0400
TZNAME:EDT
DTSTART:20260308T070000
END:DAYLIGHT
BEGIN:STANDARD
TZOFFSETFROM:-0400
TZOFFSETTO:-0500
TZNAME:EST
DTSTART:20261101T060000
END:STANDARD
BEGIN:DAYLIGHT
TZOFFSETFROM:-0500
TZOFFSETTO:-0400
TZNAME:EDT
DTSTART:20270314T070000
END:DAYLIGHT
BEGIN:STANDARD
TZOFFSETFROM:-0400
TZOFFSETTO:-0500
TZNAME:EST
DTSTART:20271107T060000
END:STANDARD
END:VTIMEZONE
BEGIN:VEVENT
DTSTART;TZID=America/New_York:20260507T170000
DTEND;TZID=America/New_York:20260507T183000
DTSTAMP:20260421T110518
CREATED:20260331T184534Z
LAST-MODIFIED:20260414T135820Z
UID:10000512-1778173200-1778178600@dennisconservationlandtrust.org
SUMMARY:Home Grown Tour: From Spawn to Table at A.R.C. Shellfish Hatchery
DESCRIPTION:The Dennis Conservation Land Trust’s Home Grown Farm Tour series invites curious locals and seasonal visitors the opportunity to step behind farm doors to meet the people who grow food\, fiber\, and seafood from the land and sea\, and to witness the intimate rhythms of a working farm.  \nFrom oyster farms to regenerative farm fields yielding fresh produce and flowers\, the series doesn’t just showcase Dennis farms\, it reveals the hands\, hearts\, and stories behind it. Think of it as a guided stroll through the town’s living pantry\, where every turn offers a taste of connection\, history\, and a renewed appreciation for where our food comes from. \n \n*CORRECTED DATE* Join us May 7th\, 5pm-6:30pm at the Aquacultural Research Corporation (A.R.C.) in Dennis! \nA.R.C. is the largest commercial shellfish hatchery in Massachusetts\, spawning millions of juvenile clams and oysters for farmers\, municipalities and non-profits groups. Founded in 1960\, A.R.C. employs over 25 people at the facility behind Chapin Beach and supports over 1300 jobs in the state. The tour will travel From Spawn to Table\, highlighting the hatchery\, as well as algae and farming operations. \nThe tour is about 1-1.5 hours in length. \nRSVP here.\nMembers Free\, Non-Members $20\nMembership starts at $50 so consider becoming a member! \n \n 
URL:https://dennisconservationlandtrust.org/event/homegrown-tour-from-spawn-to-table-at-a-r-c-shellfish-hatchery/
LOCATION:A.R.C. Hatchery\, 99 Chapin Beach Road\, Dennis\, MA\, 02675
CATEGORIES:Home Grown Tour,Walks & Talks
ATTACH;FMTTYPE=image/png:https://dennisconservationlandtrust.org/wp-content/uploads/2026/03/ARC1.png
END:VEVENT
END:VCALENDAR