BEGIN:VCALENDAR
VERSION:2.0
PRODID:-//Dennis Conservation Land Trust - ECPv6.15.20//NONSGML v1.0//EN
CALSCALE:GREGORIAN
METHOD:PUBLISH
X-ORIGINAL-URL:https://dennisconservationlandtrust.org
X-WR-CALDESC:Events for Dennis Conservation Land Trust
REFRESH-INTERVAL;VALUE=DURATION:PT1H
X-Robots-Tag:noindex
X-PUBLISHED-TTL:PT1H
BEGIN:VTIMEZONE
TZID:America/New_York
BEGIN:DAYLIGHT
TZOFFSETFROM:-0500
TZOFFSETTO:-0400
TZNAME:EDT
DTSTART:20250309T070000
END:DAYLIGHT
BEGIN:STANDARD
TZOFFSETFROM:-0400
TZOFFSETTO:-0500
TZNAME:EST
DTSTART:20251102T060000
END:STANDARD
BEGIN:DAYLIGHT
TZOFFSETFROM:-0500
TZOFFSETTO:-0400
TZNAME:EDT
DTSTART:20260308T070000
END:DAYLIGHT
BEGIN:STANDARD
TZOFFSETFROM:-0400
TZOFFSETTO:-0500
TZNAME:EST
DTSTART:20261101T060000
END:STANDARD
BEGIN:DAYLIGHT
TZOFFSETFROM:-0500
TZOFFSETTO:-0400
TZNAME:EDT
DTSTART:20270314T070000
END:DAYLIGHT
BEGIN:STANDARD
TZOFFSETFROM:-0400
TZOFFSETTO:-0500
TZNAME:EST
DTSTART:20271107T060000
END:STANDARD
END:VTIMEZONE
BEGIN:VEVENT
DTSTART;TZID=America/New_York:20260322T100000
DTEND;TZID=America/New_York:20260322T120000
DTSTAMP:20260421T144053
CREATED:20260305T204040Z
LAST-MODIFIED:20260305T204109Z
UID:10000504-1774173600-1774180800@dennisconservationlandtrust.org
SUMMARY:Winter Tree and Shrub ID Walk with Tom Walker
DESCRIPTION:Join us on Sunday\, March 22nd at 10:00am at Flax Pond along Setucket Rd for a Winter Tree and Shrub ID Walk with Tom Walker! \nTom Walker is a graduate of the University of Massachusetts\, Amherst with a Bachelor’s Degree in Wildlife and Fisheries Biology. He spent several seasons surveying wildlife on the west coast for the U.S. Forest Service and Bureau of Land Management prior to returning to New England. He has many natural history interests and has led walks and given presentations on lichens\, fungi\, bryophytes\, woody plants\, and dragonflies. He currently works for Provincetown Water Department. \nTom will lead us around the Flax Pond Conservation Land to learn about plants that can be difficult to identify in the winter months. Cape Cod in March is still cold to wear layers! \nPark at the lot along the powerlines for best access. \nCoordinates: 41.715761\, -70.180844 \nEmail lydia@dennisconservationlandtrust.org to register! \n  \nPhoto Credits: Tom Walker
URL:https://dennisconservationlandtrust.org/event/winter-tree-and-shrub-id-walk-with-tom-walker/
LOCATION:Flax Pond Conservation Area\, 90 Setucket Road\, South Dennis\, Massachusetts\, 02660
CATEGORIES:Walks & Talks
ATTACH;FMTTYPE=image/png:https://dennisconservationlandtrust.org/wp-content/uploads/2026/03/Winter-Tree-and-Shrub-ID-Walk-with-Tom-Walker-Instagram-Post-45-2.png
ORGANIZER;CN="DCLT":MAILTO:info@dennisconservationlandtrust.org
END:VEVENT
END:VCALENDAR