BEGIN:VCALENDAR
VERSION:2.0
PRODID:-//Dennis Conservation Land Trust - ECPv6.15.20//NONSGML v1.0//EN
CALSCALE:GREGORIAN
METHOD:PUBLISH
X-WR-CALNAME:Dennis Conservation Land Trust
X-ORIGINAL-URL:https://dennisconservationlandtrust.org
X-WR-CALDESC:Events for Dennis Conservation Land Trust
REFRESH-INTERVAL;VALUE=DURATION:PT1H
X-Robots-Tag:noindex
X-PUBLISHED-TTL:PT1H
BEGIN:VTIMEZONE
TZID:America/New_York
BEGIN:DAYLIGHT
TZOFFSETFROM:-0500
TZOFFSETTO:-0400
TZNAME:EDT
DTSTART:20250309T070000
END:DAYLIGHT
BEGIN:STANDARD
TZOFFSETFROM:-0400
TZOFFSETTO:-0500
TZNAME:EST
DTSTART:20251102T060000
END:STANDARD
BEGIN:DAYLIGHT
TZOFFSETFROM:-0500
TZOFFSETTO:-0400
TZNAME:EDT
DTSTART:20260308T070000
END:DAYLIGHT
BEGIN:STANDARD
TZOFFSETFROM:-0400
TZOFFSETTO:-0500
TZNAME:EST
DTSTART:20261101T060000
END:STANDARD
BEGIN:DAYLIGHT
TZOFFSETFROM:-0500
TZOFFSETTO:-0400
TZNAME:EDT
DTSTART:20270314T070000
END:DAYLIGHT
BEGIN:STANDARD
TZOFFSETFROM:-0400
TZOFFSETTO:-0500
TZNAME:EST
DTSTART:20271107T060000
END:STANDARD
END:VTIMEZONE
BEGIN:VEVENT
DTSTART;TZID=America/New_York:20260501T170000
DTEND;TZID=America/New_York:20260501T190000
DTSTAMP:20260423T162454
CREATED:20260423T123806Z
LAST-MODIFIED:20260423T123819Z
UID:10000516-1777654800-1777662000@dennisconservationlandtrust.org
SUMMARY:Herring Walk and Talk with Brad Chase
DESCRIPTION:The herring are back! Join us on Friday May 1st at 5:00pm at the DCLT headquarters to learn about these local legends. Brad Chase from the MA Division of Marine Fisheries will lead us down one of our next door herring runs\, teaching us about what makes these fish so special. \nBrad Chase is the Diadromous Fish Project Leader for the MA Division of Marine Fisheries.  He is the Massachusetts representative on the technical committees of the Atlantic States Marine Fisheries Commission on American Eel\, River Herring\, American Shad and Fish Passage.  Brad is a Harwich native who has worked on monitoring\, management and restoration efforts for DMF for sea-run fish for over 30 years. \nRSVP here. \nParking at 107 Sesuit Neck Rd\, East Dennis\, MA 02641
URL:https://dennisconservationlandtrust.org/event/herring-walk-and-talk-with-brad-chase/
LOCATION:Dennis Conservation Land Trust\, 107 Sesuit Neck Rd\, East Dennis\, MA\, 02641\, United States
CATEGORIES:Walks & Talks
ATTACH;FMTTYPE=image/png:https://dennisconservationlandtrust.org/wp-content/uploads/2026/04/Herring-Walk-and-Talk-with-Brad-Chase-Instagram-Post-45-1.png
END:VEVENT
END:VCALENDAR